BEGIN:VCALENDAR
VERSION:2.0
PRODID:-//OneGov//onegov.event//
BEGIN:VEVENT
SUMMARY:KISS Stammtisch im Malea
DTSTART:20260116T080000Z
DTEND:20260116T090000Z
DTSTAMP:20260420T112700Z
UID:kiss-stammtisch-im-malea-2026-01-16@onegov.event
RRULE:FREQ=WEEKLY;UNTIL=20270104T090000Z;BYDAY=FR;WKST=MO
CATEGORIES:Meetup
DESCRIPTION:Komm zu unserem wöchentlichen Stammtisch! Wir treffen uns\, u
 m gemeinsam Zeit zu verbringen\, zu plaudern und uns auszutauschen. Hier e
 ntstehen neue Kontakte und bestehende Kontakte werden gepflegt – offen f
 ür alle Altersgruppen und Kulturen.
GEO:47.142208;8.428037
LAST-MODIFIED:20260420T112700Z
LOCATION:Café Malea\, Chäsimatt 4\, 6343 Rotkreuz
URL:https://veranstaltungen.rischrotkreuz.ch/event/kiss-stammtisch-im-male
 a-2026-01-16
END:VEVENT
END:VCALENDAR
