BEGIN:VCALENDAR
VERSION:2.0
PRODID:-//OneGov//onegov.event//
BEGIN:VEVENT
SUMMARY:Besuchswochen 27. März - 6. April 2023
DTSTART:20230327T060000Z
DTEND:20230327T180000Z
DTSTAMP:20230317T073917Z
UID:besuchswochen-2023-03-27@onegov.event
CATEGORIES:Music,Music School
DESCRIPTION:Tage der offenen Tür an der Musikschule Risch
LAST-MODIFIED:20230317T073917Z
LOCATION:Musikschule Risch
URL:https://veranstaltungen.rischrotkreuz.ch/event/besuchswochen-2023-03-2
 7
END:VEVENT
END:VCALENDAR
