BEGIN:VCALENDAR
VERSION:2.0
PRODID:-//OneGov//onegov.event//
BEGIN:VEVENT
SUMMARY:Bürgergemeindeversammlung Risch
DTSTART:20210531T173000Z
DTEND:20210531T210000Z
DTSTAMP:20210303T084410Z
UID:buergergemeindeversammlung-risch-2021-05-31@onegov.event
CATEGORIES:Misc
DESCRIPTION:Bürgergemeindeversammlung Risch
LAST-MODIFIED:20210303T084410Z
LOCATION:Saal Dorfmatt\, Rotkreuz
URL:https://veranstaltungen.rischrotkreuz.ch/event/buergergemeindeversamml
 ung-risch-2021-05-31
END:VEVENT
END:VCALENDAR
