BEGIN:VCALENDAR
VERSION:2.0
PRODID:-//OneGov//onegov.event//
BEGIN:VEVENT
SUMMARY:Chilbi Holzhäusern
DTSTART:20231021T160000Z
DTEND:20231022T010000Z
DTSTAMP:20230906T122615Z
UID:chilbi-holzhaeusern-2023-10-21@onegov.event
CATEGORIES:Market,Culture,Tradition,Gastronomy
DESCRIPTION:Samstag\, 21. Oktober 2023 ab 18:00 Uhr mit viel Spass\, gutem
  Essen und \nLive-Musik mit dem Duo Theo und Fredi inklusive Barbetrieb. \
 n\nSonntag\, 22. Oktober 2023 \nab 10:30 Uhr Gottesdienst in St. Wendelink
 apelle anschliessendes Apéro danach Chilbi mit Marktständen 10 Uhr – 1
 7 Uhr geführt von Schulkindern aus Holzhäusern. Es gibt ein Gumpischloss
  und Karussell. Am Sonntag sorgt das Trio Bügelspez für musikalische Unt
 erhaltung. \n\nFür das leibliche Wohl sorgt der Nachbarschafts-Verein Hol
 zhäusern. Wir freuen uns auf Euer zahlreiches Erscheinen.\n\n
GEO:47.153594769458344;8.438528597472358
LAST-MODIFIED:20230906T122615Z
LOCATION:Rosengarten Event Holzhäusern
URL:https://veranstaltungen.rischrotkreuz.ch/event/chilbi-holzhaeusern-202
 3-10-21
END:VEVENT
END:VCALENDAR
