BEGIN:VCALENDAR
VERSION:2.0
PRODID:-//OneGov//onegov.event//
BEGIN:VEVENT
SUMMARY:ABGESAGT: Chrabbeltreff 
DTSTART:20210726T070000Z
DTEND:20210726T090000Z
DTSTAMP:20201109T081702Z
UID:chrabbeltreff-2-2021-07-26@onegov.event
CATEGORIES:Meetup
DESCRIPTION:Mütter und Väter treffen sich zum Zeitvertreib mit Ihren \n0
 -3 jährigen Kindern.
LAST-MODIFIED:20201109T081702Z
LOCATION:Gemeindezentrum Rotkreuz 
URL:https://veranstaltungen.rischrotkreuz.ch/event/chrabbeltreff-2-2021-07
 -26
END:VEVENT
END:VCALENDAR
