BEGIN:VCALENDAR
VERSION:2.0
PRODID:-//OneGov//onegov.event//
BEGIN:VEVENT
SUMMARY:Eröffnungsfeier Zentrum Dreilinden
DTSTART:20260613T073000Z
DTEND:20260613T140000Z
DTSTAMP:20260414T091654Z
UID:eroeffnungsfeier-zentrum-dreilinden-2026-06-13@onegov.event
CATEGORIES:Misc,Party,Elderly
DESCRIPTION:Gemeinsam mit der Rischer Bevölkerung wird die Eröffnung des
  Zentrums Dreilinden mit einem Programm für Gross und Klein gefeiert.\n\n
 Details zum Programm folgen. 
LAST-MODIFIED:20260414T091654Z
LOCATION:Zentrum Dreilinden
URL:https://veranstaltungen.rischrotkreuz.ch/event/eroeffnungsfeier-zentru
 m-dreilinden-2026-06-13
END:VEVENT
END:VCALENDAR
