BEGIN:VCALENDAR
VERSION:2.0
PRODID:-//OneGov//onegov.event//
BEGIN:VEVENT
SUMMARY:Fiire mit de Chliine
DTSTART:20260909T140000Z
DTEND:20260909T143000Z
DTSTAMP:20251106T125139Z
UID:fiire-mit-de-chliine-3-2026-09-09@onegov.event
CATEGORIES:Youth,Meetup,Religion
DESCRIPTION:Wir möchten mit euch gemeinsam singen\, lachen\, beten\, span
 nende Geschichten hören und erleben. Alle Kinder von Klein bis Gross sind
  gemeinsam mit einer Begleitperson bei uns herzlich willkommen. Die Geschi
 chten und Lieder sind im Speziellen auf die Kleinsten ausgerichtet. Wir fr
 euen uns auf euer Kommen!
GEO:47.13973;8.429141
LAST-MODIFIED:20251106T125139Z
LOCATION:kath. Kirche Rotkreuz 
URL:https://veranstaltungen.rischrotkreuz.ch/event/fiire-mit-de-chliine-3-
 2026-09-09
END:VEVENT
END:VCALENDAR
