BEGIN:VCALENDAR
VERSION:2.0
PRODID:-//OneGov//onegov.event//
BEGIN:VEVENT
SUMMARY:Fiire mit de Chliine
DTSTART:20260502T080000Z
DTEND:20260502T083000Z
DTSTAMP:20251106T125123Z
UID:fiire-mit-de-chliine-4-2026-05-02@onegov.event
CATEGORIES:Youth,Meetup,Religion
DESCRIPTION:Wir möchten mit euch gemeinsam singen\, lachen\, beten\, span
 nende Geschichten hören und erleben. Alle Kinder von Klein bis Gross sind
  gemeinsam mit einer Begleitperson bei uns herzlich willkommen. Die Geschi
 chten und Lieder sind im Speziellen auf die Kleinsten ausgerichtet. Wir fr
 euen uns und auf euer Kommen!
GEO:47.13973;8.429141
LAST-MODIFIED:20251106T125123Z
LOCATION:ref. Kirche Rotkreuz 
URL:https://veranstaltungen.rischrotkreuz.ch/event/fiire-mit-de-chliine-4-
 2026-05-02
END:VEVENT
END:VCALENDAR
