BEGIN:VCALENDAR
VERSION:2.0
PRODID:-//OneGov//onegov.event//
BEGIN:VEVENT
SUMMARY:FitGym / Seniorenturnen
DTSTART:20210224T130000Z
DTEND:20210224T140000Z
DTSTAMP:20210520T080237Z
UID:fitgym-seniorenturnen-2021-02-24@onegov.event
CATEGORIES:Sports
DESCRIPTION:Bewegung\, Spiel\, Spass lautet das Motto unserer Turngruppe. 
 Körperhaltung und Kondition\, das heisst Koordination\, Beweglichkeit\, A
 usdauer und Kraft bis ins hohe Alter erhalten oder gar verbessern.
LAST-MODIFIED:20210520T080237Z
LOCATION:Mehrzweckraum Dorfmatt
URL:https://veranstaltungen.rischrotkreuz.ch/event/fitgym-seniorenturnen-2
 021-02-24
END:VEVENT
END:VCALENDAR
