BEGIN:VCALENDAR
VERSION:2.0
PRODID:-//OneGov//onegov.event//
BEGIN:VEVENT
SUMMARY:Grüngut: Risch Rotkreuz
DTSTART:20260426T220000Z
DTEND:20260427T215959Z
DTSTAMP:20260424T021223Z
UID:gruengut-risch-rotkreuz-2026-04-26@onegov.event
CATEGORIES:
DESCRIPTION:https://www.zg.ch/behoerden/gemeinden/risch-rotkreuz/verwaltun
 g/tiefbau-umwelt-sicherheit-1/copy_of_laerm/oekihof
GEO:47.1414965;8.4317215
LAST-MODIFIED:20260424T021223Z
LOCATION:Risch Rotkreuz\, 6343 Risch
URL:https://veranstaltungen.rischrotkreuz.ch/event/gruengut-risch-rotkreuz
 -2026-04-26
END:VEVENT
END:VCALENDAR
