BEGIN:VCALENDAR
VERSION:2.0
PRODID:-//OneGov//onegov.event//
BEGIN:VEVENT
SUMMARY:Interkonfessionelles Friedensgebet
DTSTART:20260507T160000Z
DTEND:20260507T163000Z
DTSTAMP:20251106T125151Z
UID:interkonfessionelles-friedensgebet-4-2026-05-07@onegov.event
CATEGORIES:Meetup,Culture,Religion
DESCRIPTION:Eine halbe Stunde für den Frieden.\nWir beten für den Friede
 n in der Ukraine und in der ganzen Welt.\nHerzlich laden wir Sie dazu ein.
  
GEO:47.13973;8.429141
LAST-MODIFIED:20251106T125151Z
LOCATION:Kath. Pfarrkirche Rotkreuz
URL:https://veranstaltungen.rischrotkreuz.ch/event/interkonfessionelles-fr
 iedensgebet-4-2026-05-07
END:VEVENT
END:VCALENDAR
