BEGIN:VCALENDAR
VERSION:2.0
PRODID:-//OneGov//onegov.event//
BEGIN:VEVENT
SUMMARY:Kaffeemobil (Familiengartenverein Risch-Rotkreuz)
DTSTART:20260725T070000Z
DTEND:20260725T103000Z
DTSTAMP:20260225T074141Z
UID:kaffeemobil-familiengartenverein-risch-rotkreuz-2026-07-25@onegov.even
 t
CATEGORIES:Meetup,Gastronomy
DESCRIPTION:
LAST-MODIFIED:20260225T074141Z
LOCATION:Dorfmatt\, 6343 Risch-Rotkreuz
URL:https://veranstaltungen.rischrotkreuz.ch/event/kaffeemobil-familiengar
 tenverein-risch-rotkreuz-2026-07-25
END:VEVENT
END:VCALENDAR
