BEGIN:VCALENDAR
VERSION:2.0
PRODID:-//OneGov//onegov.event//
BEGIN:VEVENT
SUMMARY:Kaffeemobil (FDP)
DTSTART:20260905T070000Z
DTEND:20260905T103000Z
DTSTAMP:20260225T074016Z
UID:kaffeemobil-fdp-2026-09-05@onegov.event
CATEGORIES:Meetup,Politics,Gastronomy
DESCRIPTION:
LAST-MODIFIED:20260225T074016Z
LOCATION:Dorfmatt\, 6343 Risch-Rotkreuz
URL:https://veranstaltungen.rischrotkreuz.ch/event/kaffeemobil-fdp-2026-09
 -05
END:VEVENT
END:VCALENDAR
