BEGIN:VCALENDAR
VERSION:2.0
PRODID:-//OneGov//onegov.event//
BEGIN:VEVENT
SUMMARY:Kaffeemobil (Frauengemeinschaft Rotkreuz)
DTSTART:20260613T070000Z
DTEND:20260613T103000Z
DTSTAMP:20260225T074206Z
UID:kaffeemobil-frauengemeinschaft-rotkreuz-1-2026-06-13@onegov.event
CATEGORIES:Meetup,Gastronomy
DESCRIPTION:
LAST-MODIFIED:20260225T074206Z
LOCATION:Dorfmatt\, 6343 Risch-Rotkreuz
URL:https://veranstaltungen.rischrotkreuz.ch/event/kaffeemobil-frauengemei
 nschaft-rotkreuz-1-2026-06-13
END:VEVENT
END:VCALENDAR
