BEGIN:VCALENDAR
VERSION:2.0
PRODID:-//OneGov//onegov.event//
BEGIN:VEVENT
SUMMARY:Kaffeemobil (Ministranten Rotkreuz)
DTSTART:20260516T070000Z
DTEND:20260516T103000Z
DTSTAMP:20260225T074231Z
UID:kaffeemobil-ministranten-rotkreuz-1-2026-05-16@onegov.event
CATEGORIES:Meetup,Gastronomy
DESCRIPTION:
LAST-MODIFIED:20260225T074231Z
LOCATION:Dorfmatt\, 6343 Risch-Rotkreuz
URL:https://veranstaltungen.rischrotkreuz.ch/event/kaffeemobil-ministrante
 n-rotkreuz-1-2026-05-16
END:VEVENT
END:VCALENDAR
