BEGIN:VCALENDAR
VERSION:2.0
PRODID:-//OneGov//onegov.event//
BEGIN:VEVENT
SUMMARY:Kaffeemobil (Spielgruppe Rumpelstilz)
DTSTART:20260627T070000Z
DTEND:20260627T103000Z
DTSTAMP:20260225T074200Z
UID:kaffeemobil-spielgruppe-rumpelstilz-2026-06-27@onegov.event
CATEGORIES:Meetup,Gastronomy
DESCRIPTION:
LAST-MODIFIED:20260225T074200Z
LOCATION:Dorfmatt\, 6343 Risch-Rotkreuz
URL:https://veranstaltungen.rischrotkreuz.ch/event/kaffeemobil-spielgruppe
 -rumpelstilz-2026-06-27
END:VEVENT
END:VCALENDAR
