BEGIN:VCALENDAR
VERSION:2.0
PRODID:-//OneGov//onegov.event//
BEGIN:VEVENT
SUMMARY:Kaffeemobil (Trachtengruppe Risch-Rotkreuz)
DTSTART:20260502T070000Z
DTEND:20260502T103000Z
DTSTAMP:20260225T074238Z
UID:kaffeemobil-trachtengruppe-risch-rotkreuz-2026-05-02@onegov.event
CATEGORIES:Meetup,Gastronomy
DESCRIPTION:
LAST-MODIFIED:20260225T074238Z
LOCATION:Dorfmatt\, 6343 Risch-Rotkreuz
URL:https://veranstaltungen.rischrotkreuz.ch/event/kaffeemobil-trachtengru
 ppe-risch-rotkreuz-2026-05-02
END:VEVENT
END:VCALENDAR
