BEGIN:VCALENDAR
VERSION:2.0
PRODID:-//OneGov//onegov.event//
BEGIN:VEVENT
SUMMARY:KISS Stammtisch im Malea
DTSTART:20261106T080000Z
DTEND:20261106T090000Z
DTSTAMP:20260112T070544Z
UID:kiss-stammtisch-im-malea-2026-11-06@onegov.event
CATEGORIES:Meetup
DESCRIPTION:Komm zu unserem wöchentlichen Stammtisch! Wir treffen uns\, u
 m gemeinsam Zeit zu verbringen\, zu plaudern und uns auszutauschen. Hier e
 ntstehen neue Kontakte und bestehende Kontakte werden gepflegt – offen f
 ür alle Altersgruppen und Kulturen.
GEO:47.142208;8.428037
LAST-MODIFIED:20260112T070544Z
LOCATION:Café Malea\, Chäsimatt 4\, 6343 Rotkreuz
URL:https://veranstaltungen.rischrotkreuz.ch/event/kiss-stammtisch-im-male
 a-2026-11-06
END:VEVENT
END:VCALENDAR
