BEGIN:VCALENDAR
VERSION:2.0
PRODID:-//OneGov//onegov.event//
BEGIN:VEVENT
SUMMARY:Kulturapéro Netzwerk Schlüsselpersonen
DTSTART:20260611T163000Z
DTEND:20260611T183000Z
DTSTAMP:20260409T134352Z
UID:kulturapero-netzwerk-schluesselpersonen-3-2026-06-11@onegov.event
CATEGORIES:Misc,Talk,Youth,Meetup,Culture,Religion,Education,Tradition
DESCRIPTION:Begegnung. Austausch. Integration.\n\nDie Gemeinde Risch lebt 
 Vielfalt – und setzt sich mit Herzblut für eine gelungene Integration e
 in. Ein besonderes Highlight ist der Kulturapéro\, organisiert vom Netzwe
 rk Schlüsselpersonen. Dieser Anlass bringt Menschen aus unterschiedlichst
 en Kulturen zusammen und schafft Raum für Begegnungen\, Austausch und geg
 enseitiges Verständnis.\n\nIm offiziellen Teil stellen die Schlüsselpers
 onen diesmal das Thema „Zuhause zwischen zwei Kulturen - familiäre Konf
 likte“ in den Mittelpunkt.\n\nIm Anschluss lädt ein gemütlicher Apéro
  zum Verweilen ein. Hier entstehen Gespräche über alle Grenzen hinweg 
 – zwischen Alteingesessenen und Neuzugezogenen\, Jung und Alt\, Menschen
  aus aller Welt. Die Stimmung ist offen\, herzlich und inspirierend.
LAST-MODIFIED:20260409T134352Z
LOCATION:Gemeindeverwaltung Risch\, Räumlichkeiten Generationen & Gesells
 chaft (EG)
URL:https://veranstaltungen.rischrotkreuz.ch/event/kulturapero-netzwerk-sc
 hluesselpersonen-3-2026-06-11
END:VEVENT
END:VCALENDAR
