BEGIN:VCALENDAR
VERSION:2.0
PRODID:-//OneGov//onegov.event//
BEGIN:VEVENT
SUMMARY:Maiandacht in der Kirche Rotkreuz
DTSTART:20260503T170000Z
DTEND:20260503T180000Z
DTSTAMP:20260413T061619Z
UID:maiandacht-in-der-kirche-rotkreuz-2026-05-03@onegov.event
CATEGORIES:Music,Religion,Tradition
DESCRIPTION:Am Sonntag\, 3. Mai 2026 laden wir Sie um 19.00 Uhr herzlich i
 n die Kirche Rotkreuz zur ersten Maiandacht in diesem Jahr ein. Wir freuen
  uns gemeinsam mit Ihnen zum Thema «Mitten im Leben» Maria und Jesus zu 
 feiern. Lassen Sie den Alltag hinter sich und geniessen Sie einen besinnli
 chen Abend in ruhiger\, inspirierender Umgebung.\n\nFür die musikalische 
 Umrahmung sorgt Patrick Iten an der Querflöte.\n\nIm Anschluss sind alle 
 herzlich zu einem Apéro sowie zu einem gemütlichen Beisammensein eingela
 den.\n\nWir freuen uns auf Ihr Kommen!\n
LAST-MODIFIED:20260413T061619Z
LOCATION:Kath. Kirche Rotkreuz 
URL:https://veranstaltungen.rischrotkreuz.ch/event/maiandacht-in-der-kirch
 e-rotkreuz-2026-05-03
END:VEVENT
END:VCALENDAR
