BEGIN:VCALENDAR
VERSION:2.0
PRODID:-//OneGov//onegov.event//
BEGIN:VEVENT
SUMMARY:Offene Beratung und Begegnung mit Crêpe-Mobil
DTSTART:20260625T090000Z
DTEND:20260625T120000Z
DTSTAMP:20251222T073817Z
UID:offene-beratung-und-begegnung-mit-crepe-mobil-2026-06-25@onegov.event
CATEGORIES:Meetup
DESCRIPTION:Benevol Zug und die Stiftung zuwebe organisieren in Zusammenar
 beit mit der Gemeinde Risch eine offene Beratungs- und Begegnungsmöglichk
 eit. Mit dem Crêpe-Mobil sind sie vor Ort und laden Interessierte zum Aus
 tausch ein. Das Angebot ist kostenlos und richtet sich an Personen\, die s
 ich freiwillig engagieren (möchten) oder Fragen rund um freiwilliges Enga
 gement haben.
GEO:47.141237960234676;8.431502587128833
LAST-MODIFIED:20251222T073817Z
LOCATION:Zentrum Dorfmatt
URL:https://veranstaltungen.rischrotkreuz.ch/event/offene-beratung-und-beg
 egnung-mit-crepe-mobil-2026-06-25
END:VEVENT
END:VCALENDAR
