BEGIN:VCALENDAR
VERSION:2.0
PRODID:-//OneGov//onegov.event//
BEGIN:VEVENT
SUMMARY:Proben Trachten- Kindertanzgruppe
DTSTART:20240903T150000Z
DTEND:20240903T160000Z
DTSTAMP:20240827T060709Z
UID:proben-trachten-kindertanzgruppe-9-2024-09-03@onegov.event
CATEGORIES:Music,Dancing
DESCRIPTION:Die Kindertanzgruppe bietet für bewegungsfreudige Mädchen un
 d Buben ab 5 Jahren Trachtentänze an. Den Kindern wird Körperwahrnehmung
 \, soziales Verhalten\, Rhythmus/ Musik mit viel Freude und Spass vermitte
 lt.
LAST-MODIFIED:20240827T060709Z
LOCATION:Singsaal 511\, Schulhaus 5
URL:https://veranstaltungen.rischrotkreuz.ch/event/proben-trachten-kindert
 anzgruppe-9-2024-09-03
END:VEVENT
END:VCALENDAR
