BEGIN:VCALENDAR
VERSION:2.0
PRODID:-//OneGov//onegov.event//
BEGIN:VEVENT
SUMMARY:Reise ins Geschichtenland
DTSTART:20230412T140000Z
DTEND:20230412T143000Z
DTSTAMP:20221124T071546Z
UID:reise-2023-04-12@onegov.event
CATEGORIES:Library,Reading,Education,Literature
DESCRIPTION:Geschichten für Vorschulkinder\, welche ca. 25 Min. zuhören 
 können\, erzählen Edith Schenk\, Judith Wismer\, Prisca Imfeld oder Sylv
 ie Knüsel. Ab 4 Jahre
LAST-MODIFIED:20221124T071546Z
LOCATION:Meierskappelerstrasse 9\, 6343 Rotkreuz
URL:https://veranstaltungen.rischrotkreuz.ch/event/reise-2023-04-12
END:VEVENT
END:VCALENDAR
