BEGIN:VCALENDAR
VERSION:2.0
PRODID:-//OneGov//onegov.event//
BEGIN:VEVENT
SUMMARY:Senioren-Tanznachmittag
DTSTART:20230830T120000Z
DTEND:20230830T150000Z
DTSTAMP:20230109T072821Z
UID:tanznachmittag-2023-08-30@onegov.event
CATEGORIES:Dancing,Elderly
DESCRIPTION:
LAST-MODIFIED:20230109T072821Z
LOCATION:Dorfmattsaal\, Rotkreuz 6343
URL:https://veranstaltungen.rischrotkreuz.ch/event/tanznachmittag-2023-08-
 30
END:VEVENT
END:VCALENDAR
