BEGIN:VCALENDAR
VERSION:2.0
PRODID:-//OneGov//onegov.event//
BEGIN:VEVENT
SUMMARY:Weihnachtskino
DTSTART:20241224T123000Z
DTEND:20241224T143000Z
DTSTAMP:20241107T082825Z
UID:weihnachtskino-5-2024-12-24@onegov.event
CATEGORIES:Cinema,Culture
DESCRIPTION:Pettersson und Findus\, das schönste Weihnachten überhaupt\n
 Pettersson und Findus sind zwei Tage vor Weihnachten auf ihrem kleinen Hof
  komplett eingeschneit. Der Weihnachtsbaum fehlt und es gibt nichts mehr z
 um Essen. Der kleine Kater hat Angst\, dass sie das Fest nun gar nicht fei
 ern können\, doch Pettersson hat Findus in diesem Jahr das schönste Weih
 nachten überhaupt versprochen. Als sie am nächsten Tag in den Wald ziehe
 n können\, um den Baum zu schlagen\, verletzt sich Pettersson so unglück
 lich am Fuss\, dass er sich nur noch humpelnd unter Schmerzen bewegen kann
 .  Einen Baum schleppen? - Unmöglich. Und was wird nur aus den Einkäufen
  und den fehlenden Leckereien? Findus fürchtet\, dass Weihnachten ganz au
 sfallen muss und nimmt die Organisation selbst in die Hand\n
LAST-MODIFIED:20241107T082825Z
LOCATION:Zentrum Dorfmatt\, Dorfmattsaal
URL:https://veranstaltungen.rischrotkreuz.ch/event/weihnachtskino-5-2024-1
 2-24
END:VEVENT
END:VCALENDAR
