BEGIN:VCALENDAR
VERSION:2.0
PRODID:-//OneGov//onegov.event//
BEGIN:VEVENT
SUMMARY:Quantenanalyse und duftende Massage
DTSTART:20260427T163000Z
DTEND:20260427T183000Z
DTSTAMP:20260316T115300Z
UID:zeit-fuer-dich-spueren-verstehen-auftanken-1-2026-04-27@onegov.event
CATEGORIES:Health
DESCRIPTION:Zeit für Dich - spüren\, verstehen\, auftanken\n\nMöchtest 
 du wissen\, wie es deinem Körper wirklich geht?\nMit der Quantenanalyse e
 rhältst du schnell und unkompliziert einen Überblick über mögliche Ung
 leichgewichte. So erkennst du\, wo dein Körper Unterstützung braucht und
  kannst gezielt erste Schritte zurück in deine Balance und zu neuer Vital
 ität gehen.\n\nIn einem gemütlichen Rahmen und einer wohlgesinnten\, kle
 inen Gruppe werden wir dir Facts zu deinem Körperzustand (gem. Analyse) m
 itteilen können und basierend auf dem Ergebnis\, geniesst du direkt noch 
 eine Massage.\n\nSnacks\, Getränke und ein persönlicher Öl-RollOn warte
 n ebenfalls auf dich.\nWeitere Details findest du auf dem Flyer.\n\nWir fr
 euen uns auf einen spannenden und wunderbaren Abend mit dir\nConny und Pet
 ra
GEO:47.146535;8.430393
LAST-MODIFIED:20260316T115300Z
LOCATION:Kosmetikstudio\, Grundstrasse 22A\, 6343 Rotkreuz
URL:https://veranstaltungen.rischrotkreuz.ch/event/zeit-fuer-dich-spueren-
 verstehen-auftanken-1-2026-04-27
END:VEVENT
END:VCALENDAR
